BEGIN:VCALENDAR
VERSION:2.0
PRODID:-//Hog Neck Golf Course - Easton, MD - ECPv6.15.20//NONSGML v1.0//EN
CALSCALE:GREGORIAN
METHOD:PUBLISH
X-WR-CALNAME:Hog Neck Golf Course - Easton, MD
X-ORIGINAL-URL:https://hogneck.com
X-WR-CALDESC:Events for Hog Neck Golf Course - Easton, MD
REFRESH-INTERVAL;VALUE=DURATION:PT1H
X-Robots-Tag:noindex
X-PUBLISHED-TTL:PT1H
BEGIN:VTIMEZONE
TZID:UTC
BEGIN:STANDARD
TZOFFSETFROM:+0000
TZOFFSETTO:+0000
TZNAME:UTC
DTSTART:20240101T000000
END:STANDARD
END:VTIMEZONE
BEGIN:VEVENT
DTSTART;TZID=UTC:20260601T090000
DTEND;TZID=UTC:20260601T090000
DTSTAMP:20260425T122234
CREATED:20260224T200136Z
LAST-MODIFIED:20260224T200139Z
UID:10000016-1780304400-1780304400@hogneck.com
SUMMARY:Indian River (100)
DESCRIPTION:9:00 am Shotgun Start
URL:https://hogneck.com/event/indian-river-100/
END:VEVENT
BEGIN:VEVENT
DTSTART;TZID=UTC:20260531T070000
DTEND;TZID=UTC:20260531T070000
DTSTAMP:20260425T122234
CREATED:20260224T200020Z
LAST-MODIFIED:20260224T200024Z
UID:10000015-1780210800-1780210800@hogneck.com
SUMMARY:MHNGA 2-Man Scramble
DESCRIPTION:Two-Man Scramble | 7:00 am Shotgun Start
URL:https://hogneck.com/event/mhnga-2-man-scramble/
END:VEVENT
BEGIN:VEVENT
DTSTART;TZID=UTC:20260519T090000
DTEND;TZID=UTC:20260519T090000
DTSTAMP:20260425T122234
CREATED:20260224T195823Z
LAST-MODIFIED:20260224T195829Z
UID:10000014-1779181200-1779181200@hogneck.com
SUMMARY:MSBR Tournament
DESCRIPTION:9:00am Shotgun
URL:https://hogneck.com/event/msbr-tournament/
END:VEVENT
BEGIN:VEVENT
DTSTART;TZID=UTC:20260503T080000
DTEND;TZID=UTC:20260503T080000
DTSTAMP:20260425T122234
CREATED:20260224T195731Z
LAST-MODIFIED:20260224T195734Z
UID:10000013-1777795200-1777795200@hogneck.com
SUMMARY:MHNGA ABCD
DESCRIPTION:8:00 am Shotgun Start
URL:https://hogneck.com/event/mhnga-abcd/
END:VEVENT
BEGIN:VEVENT
DTSTART;TZID=UTC:20260501T090000
DTEND;TZID=UTC:20260501T090000
DTSTAMP:20260425T122234
CREATED:20260224T195604Z
LAST-MODIFIED:20260224T195607Z
UID:10000012-1777626000-1777626000@hogneck.com
SUMMARY:SSPP Tournament
DESCRIPTION:9 am Shotgun start
URL:https://hogneck.com/event/sspp-tournament/
END:VEVENT
BEGIN:VEVENT
DTSTART;TZID=UTC:20260407T090000
DTEND;TZID=UTC:20260407T090000
DTSTAMP:20260425T122234
CREATED:20260224T195457Z
LAST-MODIFIED:20260224T195501Z
UID:10000011-1775552400-1775552400@hogneck.com
SUMMARY:MISGA Event
DESCRIPTION:9:00 am Shotgun Start
URL:https://hogneck.com/event/misga-event/
END:VEVENT
BEGIN:VEVENT
DTSTART;TZID=UTC:20260317T000000
DTEND;TZID=UTC:20260317T235959
DTSTAMP:20260425T122234
CREATED:20231121T222235Z
LAST-MODIFIED:20250630T180621Z
UID:10000006-1773705600-1773791999@hogneck.com
SUMMARY:Saint Patrick's Day
DESCRIPTION:
URL:https://hogneck.com/event/saint-patricks-day/
CATEGORIES:Holidays
END:VEVENT
BEGIN:VEVENT
DTSTART;TZID=UTC:20260101T000000
DTEND;TZID=UTC:20260101T235959
DTSTAMP:20260425T122234
CREATED:20231005T175327Z
LAST-MODIFIED:20250630T180705Z
UID:10000003-1767225600-1767311999@hogneck.com
SUMMARY:New Year's Eve
DESCRIPTION:
URL:https://hogneck.com/event/new-years-eve/
CATEGORIES:Holidays
END:VEVENT
BEGIN:VEVENT
DTSTART;TZID=UTC:20251225T000000
DTEND;TZID=UTC:20251225T235959
DTSTAMP:20260425T122234
CREATED:20231121T222203Z
LAST-MODIFIED:20250630T180736Z
UID:10000005-1766620800-1766707199@hogneck.com
SUMMARY:Christmas
DESCRIPTION:
URL:https://hogneck.com/event/christmas/
CATEGORIES:Holidays
END:VEVENT
BEGIN:VEVENT
DTSTART;TZID=UTC:20250429T000000
DTEND;TZID=UTC:20250429T235959
DTSTAMP:20260425T122234
CREATED:20251120T001801Z
LAST-MODIFIED:20251120T001805Z
UID:10000010-1745884800-1745971199@hogneck.com
SUMMARY:WPGA VS. CHESTER RIVER
DESCRIPTION:
URL:https://hogneck.com/event/wpga-vs-chester-river/
END:VEVENT
BEGIN:VEVENT
DTSTART;TZID=UTC:20250427T000000
DTEND;TZID=UTC:20250427T235959
DTSTAMP:20260425T122234
CREATED:20251120T001728Z
LAST-MODIFIED:20251120T001731Z
UID:10000009-1745712000-1745798399@hogneck.com
SUMMARY:SR. VETERANS TOURNEY
DESCRIPTION:
URL:https://hogneck.com/event/sr-veterans-tourney/
END:VEVENT
BEGIN:VEVENT
DTSTART;TZID=UTC:20250415T000000
DTEND;TZID=UTC:20250415T235959
DTSTAMP:20260425T122234
CREATED:20251120T001648Z
LAST-MODIFIED:20251120T001651Z
UID:10000008-1744675200-1744761599@hogneck.com
SUMMARY:MISGA 9AM SG START
DESCRIPTION:
URL:https://hogneck.com/event/misga-9am-sg-start/
END:VEVENT
BEGIN:VEVENT
DTSTART;TZID=UTC:20250413T000000
DTEND;TZID=UTC:20250413T235959
DTSTAMP:20260425T122234
CREATED:20251120T001611Z
LAST-MODIFIED:20251120T001614Z
UID:10000007-1744502400-1744588799@hogneck.com
SUMMARY:MHNGA SHAMBLE
DESCRIPTION:
URL:https://hogneck.com/event/mhnga-shamble/
END:VEVENT
END:VCALENDAR