BEGIN:VCALENDAR
VERSION:2.0
PRODID:-//Hog Neck Golf Course - Easton, MD - ECPv6.15.20//NONSGML v1.0//EN
CALSCALE:GREGORIAN
METHOD:PUBLISH
X-ORIGINAL-URL:https://hogneck.com
X-WR-CALDESC:Events for Hog Neck Golf Course - Easton, MD
REFRESH-INTERVAL;VALUE=DURATION:PT1H
X-Robots-Tag:noindex
X-PUBLISHED-TTL:PT1H
BEGIN:VTIMEZONE
TZID:UTC
BEGIN:STANDARD
TZOFFSETFROM:+0000
TZOFFSETTO:+0000
TZNAME:UTC
DTSTART:20250101T000000
END:STANDARD
END:VTIMEZONE
BEGIN:VEVENT
DTSTART;TZID=UTC:20260616T090000
DTEND;TZID=UTC:20260616T090000
DTSTAMP:20260423T110543
CREATED:20260224T200637Z
LAST-MODIFIED:20260224T200639Z
UID:10000020-1781600400-1781600400@hogneck.com
SUMMARY:MISGA
DESCRIPTION:9:00 am Shotgun Start
URL:https://hogneck.com/event/misga/
END:VEVENT
END:VCALENDAR